BEGIN:VCALENDAR
VERSION:2.0
PRODID:-//3nity.com//3nity CMS//EN
BEGIN:VEVENT
SUMMARY:Wolverine State 2026 Senior Oratorical Contest & Scholarship Luncheon
UID:2026-07-18-1216571@72262.stablerack.com
SEQUENCE:0
STATUS:CONFIRMED
DTSTART:20260425T123000
DTEND:20260425T123000
DTSTAMP:20161222T120000
LOCATION: Second Baptist Church, 301 S. Hamilton St., Ypsilanti, MI 48197
DESCRIPTION:Host Church: Second Baptist Church\nHost Pastor: Dean George W. Waddles, Jr.\nTicket Price: $25.00
URL:http://72262.stablerack.com
END:VEVENT
END:VCALENDAR
